BEGIN:VCALENDAR
VERSION:2.0
PRODID:-//Millersburg Borough - ECPv6.8.2.1//NONSGML v1.0//EN
CALSCALE:GREGORIAN
METHOD:PUBLISH
X-WR-CALNAME:Millersburg Borough
X-ORIGINAL-URL:https://www.millersburgpa.org
X-WR-CALDESC:Events for Millersburg Borough
REFRESH-INTERVAL;VALUE=DURATION:PT1H
X-Robots-Tag:noindex
X-PUBLISHED-TTL:PT1H
BEGIN:VTIMEZONE
TZID:America/New_York
BEGIN:DAYLIGHT
TZOFFSETFROM:-0500
TZOFFSETTO:-0400
TZNAME:EDT
DTSTART:20260308T070000
END:DAYLIGHT
BEGIN:STANDARD
TZOFFSETFROM:-0400
TZOFFSETTO:-0500
TZNAME:EST
DTSTART:20261101T060000
END:STANDARD
END:VTIMEZONE
BEGIN:VEVENT
DTSTART;VALUE=DATE:20260502
DTEND;VALUE=DATE:20260503
DTSTAMP:20260422T092801
CREATED:20251215T160403Z
LAST-MODIFIED:20251215T160403Z
UID:3994-1777680000-1777766399@www.millersburgpa.org
SUMMARY:Cherry Blossom Festival
DESCRIPTION:
URL:https://www.millersburgpa.org/event/cherry-blossom-festival-6/
END:VEVENT
BEGIN:VEVENT
DTSTART;TZID=America/New_York:20260506T180000
DTEND;TZID=America/New_York:20260506T200000
DTSTAMP:20260422T092801
CREATED:20251215T160531Z
LAST-MODIFIED:20251215T160531Z
UID:3998-1778090400-1778097600@www.millersburgpa.org
SUMMARY:Planning & Shade Tree Commission
DESCRIPTION:
URL:https://www.millersburgpa.org/event/planning-shade-tree-commission-6/
END:VEVENT
BEGIN:VEVENT
DTSTART;TZID=America/New_York:20260513T180000
DTEND;TZID=America/New_York:20260513T210000
DTSTAMP:20260422T092801
CREATED:20251215T160455Z
LAST-MODIFIED:20251215T160455Z
UID:3996-1778695200-1778706000@www.millersburgpa.org
SUMMARY:Borough Council
DESCRIPTION:
URL:https://www.millersburgpa.org/event/borough-council-33/
END:VEVENT
BEGIN:VEVENT
DTSTART;VALUE=DATE:20260525
DTEND;VALUE=DATE:20260526
DTSTAMP:20260422T092801
CREATED:20251215T160646Z
LAST-MODIFIED:20251215T160646Z
UID:4002-1779667200-1779753599@www.millersburgpa.org
SUMMARY:Memorial Day - Offices Closed
DESCRIPTION:
URL:https://www.millersburgpa.org/event/memorial-day-offices-closed-2/
END:VEVENT
BEGIN:VEVENT
DTSTART;VALUE=DATE:20260525
DTEND;VALUE=DATE:20260526
DTSTAMP:20260422T092801
CREATED:20251229T164359Z
LAST-MODIFIED:20251229T164359Z
UID:4056-1779667200-1779753599@www.millersburgpa.org
SUMMARY:Memorial Day - Offices Closed
DESCRIPTION:
URL:https://www.millersburgpa.org/event/memorial-day-offices-closed-3/
END:VEVENT
BEGIN:VEVENT
DTSTART;TZID=America/New_York:20260527T180000
DTEND;TZID=America/New_York:20260527T210000
DTSTAMP:20260422T092801
CREATED:20251215T160612Z
LAST-MODIFIED:20251215T160612Z
UID:4000-1779904800-1779915600@www.millersburgpa.org
SUMMARY:Committee of the Whole
DESCRIPTION:
URL:https://www.millersburgpa.org/event/committee-of-the-whole-59/
END:VEVENT
END:VCALENDAR