BEGIN:VCALENDAR
VERSION:2.0
PRODID:-//Millersburg Borough - ECPv6.8.2.1//NONSGML v1.0//EN
CALSCALE:GREGORIAN
METHOD:PUBLISH
X-WR-CALNAME:Millersburg Borough
X-ORIGINAL-URL:https://www.millersburgpa.org
X-WR-CALDESC:Events for Millersburg Borough
REFRESH-INTERVAL;VALUE=DURATION:PT1H
X-Robots-Tag:noindex
X-PUBLISHED-TTL:PT1H
BEGIN:VTIMEZONE
TZID:America/New_York
BEGIN:DAYLIGHT
TZOFFSETFROM:-0500
TZOFFSETTO:-0400
TZNAME:EDT
DTSTART:20260308T070000
END:DAYLIGHT
BEGIN:STANDARD
TZOFFSETFROM:-0400
TZOFFSETTO:-0500
TZNAME:EST
DTSTART:20261101T060000
END:STANDARD
END:VTIMEZONE
BEGIN:VEVENT
DTSTART;TZID=America/New_York:20260304T180000
DTEND;TZID=America/New_York:20260304T200000
DTSTAMP:20260422T092830
CREATED:20251215T155814Z
LAST-MODIFIED:20260303T185600Z
UID:3976-1772647200-1772654400@www.millersburgpa.org
SUMMARY:Planning & Shade Tree Commission
DESCRIPTION:Planning Commission Agenda 03.04.26 \nShade Tree Comm. Agenda 03.04.26
URL:https://www.millersburgpa.org/event/planning-shade-tree-commission-4/
END:VEVENT
BEGIN:VEVENT
DTSTART;TZID=America/New_York:20260311T180000
DTEND;TZID=America/New_York:20260311T200000
DTSTAMP:20260422T092830
CREATED:20251215T155846Z
LAST-MODIFIED:20260310T181952Z
UID:3978-1773252000-1773259200@www.millersburgpa.org
SUMMARY:Borough Council
DESCRIPTION:March 11\, 2026 Council Meeting Agenda
URL:https://www.millersburgpa.org/event/borough-council-31/
END:VEVENT
BEGIN:VEVENT
DTSTART;TZID=America/New_York:20260325T180000
DTEND;TZID=America/New_York:20260325T210000
DTSTAMP:20260422T092830
CREATED:20251215T155937Z
LAST-MODIFIED:20260324T184234Z
UID:3980-1774461600-1774472400@www.millersburgpa.org
SUMMARY:Committee of the Whole
DESCRIPTION:March 25\, 2026 Committee of the Whole Agenda\nMarch 25\, 2026 Council Meeting Agenda
URL:https://www.millersburgpa.org/event/committee-of-the-whole-57/
END:VEVENT
END:VCALENDAR