BEGIN:VCALENDAR
VERSION:2.0
PRODID:-//Millersburg Borough - ECPv6.8.2.1//NONSGML v1.0//EN
CALSCALE:GREGORIAN
METHOD:PUBLISH
X-ORIGINAL-URL:https://www.millersburgpa.org
X-WR-CALDESC:Events for Millersburg Borough
REFRESH-INTERVAL;VALUE=DURATION:PT1H
X-Robots-Tag:noindex
X-PUBLISHED-TTL:PT1H
BEGIN:VTIMEZONE
TZID:America/New_York
BEGIN:DAYLIGHT
TZOFFSETFROM:-0500
TZOFFSETTO:-0400
TZNAME:EDT
DTSTART:20260308T070000
END:DAYLIGHT
BEGIN:STANDARD
TZOFFSETFROM:-0400
TZOFFSETTO:-0500
TZNAME:EST
DTSTART:20261101T060000
END:STANDARD
END:VTIMEZONE
BEGIN:VEVENT
DTSTART;VALUE=DATE:20260101
DTEND;VALUE=DATE:20260102
DTSTAMP:20260422T122238
CREATED:20251215T160008Z
LAST-MODIFIED:20251215T160008Z
UID:3982-1767225600-1767311999@www.millersburgpa.org
SUMMARY:New Year's Day - Offices Closed
DESCRIPTION:
URL:https://www.millersburgpa.org/event/new-years-day-offices-closed-2/
END:VEVENT
BEGIN:VEVENT
DTSTART;TZID=America/New_York:20260105T180000
DTEND;TZID=America/New_York:20260105T200000
DTSTAMP:20260422T122238
CREATED:20251215T155424Z
LAST-MODIFIED:20260102T210720Z
UID:3962-1767636000-1767643200@www.millersburgpa.org
SUMMARY:Reorganization Meeting
DESCRIPTION:January 5\, 2026 Reorganization Meeting Agenda
URL:https://www.millersburgpa.org/event/reorganization-meeting-2/
END:VEVENT
BEGIN:VEVENT
DTSTART;TZID=America/New_York:20260107T180000
DTEND;TZID=America/New_York:20260107T180000
DTSTAMP:20260422T122238
CREATED:20251215T155502Z
LAST-MODIFIED:20260106T220919Z
UID:3964-1767808800-1767808800@www.millersburgpa.org
SUMMARY:Planning & Shade Tree Commission
DESCRIPTION:Planning Commission Agenda 01.07.26 \nShade Tree Comm. Agenda 01.07.26
URL:https://www.millersburgpa.org/event/planning-shade-tree-commission-2/
END:VEVENT
BEGIN:VEVENT
DTSTART;TZID=America/New_York:20260114T180000
DTEND;TZID=America/New_York:20260114T180000
DTSTAMP:20260422T122238
CREATED:20251215T155537Z
LAST-MODIFIED:20260113T231339Z
UID:3966-1768413600-1768413600@www.millersburgpa.org
SUMMARY:Borough Council
DESCRIPTION:January 14\, 2026 Council Agenda
URL:https://www.millersburgpa.org/event/borough-council-29/
END:VEVENT
BEGIN:VEVENT
DTSTART;TZID=America/New_York:20260128T180000
DTEND;TZID=America/New_York:20260128T210000
DTSTAMP:20260422T122238
CREATED:20251215T155617Z
LAST-MODIFIED:20260116T153937Z
UID:3968-1769623200-1769634000@www.millersburgpa.org
SUMMARY:Committee of the Whole (Cancelled)
DESCRIPTION:
URL:https://www.millersburgpa.org/event/committee-of-the-whole-55/
END:VEVENT
END:VCALENDAR