BEGIN:VCALENDAR
VERSION:2.0
PRODID:-//Millersburg Borough - ECPv6.8.2.1//NONSGML v1.0//EN
CALSCALE:GREGORIAN
METHOD:PUBLISH
X-WR-CALNAME:Millersburg Borough
X-ORIGINAL-URL:https://www.millersburgpa.org
X-WR-CALDESC:Events for Millersburg Borough
REFRESH-INTERVAL;VALUE=DURATION:PT1H
X-Robots-Tag:noindex
X-PUBLISHED-TTL:PT1H
BEGIN:VTIMEZONE
TZID:America/New_York
BEGIN:DAYLIGHT
TZOFFSETFROM:-0500
TZOFFSETTO:-0400
TZNAME:EDT
DTSTART:20260308T070000
END:DAYLIGHT
BEGIN:STANDARD
TZOFFSETFROM:-0400
TZOFFSETTO:-0500
TZNAME:EST
DTSTART:20261101T060000
END:STANDARD
END:VTIMEZONE
BEGIN:VEVENT
DTSTART;TZID=America/New_York:20260204T180000
DTEND;TZID=America/New_York:20260204T200000
DTSTAMP:20260422T121920
CREATED:20251215T155645Z
LAST-MODIFIED:20260203T194412Z
UID:3970-1770228000-1770235200@www.millersburgpa.org
SUMMARY:Planning & Shade Tree Commission
DESCRIPTION:Planning Commission Agenda 02.04.26 \nShade Tree Comm. Agenda 02.04.26
URL:https://www.millersburgpa.org/event/planning-shade-tree-commission-3/
END:VEVENT
END:VCALENDAR