BEGIN:VCALENDAR
VERSION:2.0
PRODID:-//Millersburg Borough - ECPv6.8.2.1//NONSGML v1.0//EN
CALSCALE:GREGORIAN
METHOD:PUBLISH
X-WR-CALNAME:Millersburg Borough
X-ORIGINAL-URL:https://www.millersburgpa.org
X-WR-CALDESC:Events for Millersburg Borough
REFRESH-INTERVAL;VALUE=DURATION:PT1H
X-Robots-Tag:noindex
X-PUBLISHED-TTL:PT1H
BEGIN:VTIMEZONE
TZID:America/New_York
BEGIN:DAYLIGHT
TZOFFSETFROM:-0500
TZOFFSETTO:-0400
TZNAME:EDT
DTSTART:20180311T070000
END:DAYLIGHT
BEGIN:STANDARD
TZOFFSETFROM:-0400
TZOFFSETTO:-0500
TZNAME:EST
DTSTART:20181104T060000
END:STANDARD
END:VTIMEZONE
BEGIN:VEVENT
DTSTART;TZID=America/New_York:20180324T190000
DTEND;TZID=America/New_York:20180324T220000
DTSTAMP:20260420T085319
CREATED:20180227T135653Z
LAST-MODIFIED:20180227T135653Z
UID:617-1521918000-1521928800@www.millersburgpa.org
SUMMARY:Cruisin' the Cosmos 2018: Spring Edition
DESCRIPTION:
URL:https://www.millersburgpa.org/event/cruisin-the-cosmos-2018-spring-edition/
LOCATION:Ned Smth Center\, 176 Water Company Rd\, Millersburg\, PA\, 17061\, United States
END:VEVENT
END:VCALENDAR